BEGIN:VCALENDAR
VERSION:2.0
PRODID:-//Sozo Ministries International - ECPv5.3.1.1//NONSGML v1.0//EN
CALSCALE:GREGORIAN
METHOD:PUBLISH
X-WR-CALNAME:Sozo Ministries International
X-ORIGINAL-URL:https://sozohouseofpraiseintl.co.uk
X-WR-CALDESC:Events for Sozo Ministries International
BEGIN:VTIMEZONE
TZID:Europe/London
BEGIN:DAYLIGHT
TZOFFSETFROM:+0000
TZOFFSETTO:+0100
TZNAME:BST
DTSTART:20150329T010000
END:DAYLIGHT
BEGIN:STANDARD
TZOFFSETFROM:+0100
TZOFFSETTO:+0000
TZNAME:GMT
DTSTART:20151025T010000
END:STANDARD
END:VTIMEZONE
BEGIN:VEVENT
DTSTART;TZID=Europe/London:20150315T000000
DTEND;TZID=Europe/London:20150315T000000
DTSTAMP:20260423T134420
CREATED:20150725T154248Z
LAST-MODIFIED:20150725T154248Z
UID:808-1426377600-1426377600@sozohouseofpraiseintl.co.uk
SUMMARY:Mothering Sunday
DESCRIPTION:
URL:https://sozohouseofpraiseintl.co.uk/event/mothering-sunday-6/
END:VEVENT
END:VCALENDAR